BEGIN:VCALENDAR
VERSION:2.0
PRODID:-//Sabre//Sabre VObject 3.5.3//EN
CALSCALE:GREGORIAN
BEGIN:VTIMEZONE
TZID:Europe/London
BEGIN:STANDARD
TZNAME:GMT
DTSTART:19701025T020000
RRULE:FREQ=YEARLY;BYMONTH=10;BYDAY=-1SU
TZOFFSETFROM:+0100
TZOFFSETTO:+0000
END:STANDARD
BEGIN:DAYLIGHT
TZNAME:BST
DTSTART:19700329T010000
RRULE:FREQ=YEARLY;BYMONTH=3;BYDAY=-1SU
TZOFFSETFROM:+0000
TZOFFSETTO:+0100
END:DAYLIGHT
END:VTIMEZONE
BEGIN:VEVENT
UID:event_309203@congletonchoralsociety.org.uk
DTSTART;TZID=Europe/London:20260608T180000
DTEND;TZID=Europe/London:20260608T190000
SUMMARY:CC Rehearsal
DESCRIPTION:For full event details\, visit: https://www.congletonchoralsoci
 ety.org.uk/dbpage.php?pg=view&dbase=events&id=309203
LOCATION:Wellspring Methodist Church\, Canal Road\, Congleton\, CW12 3AP\, 
 (Car park and entrance off Goldfinch Close)
URL:https://www.congletonchoralsociety.org.uk/dbpage.php?pg=view&dbase=even
 ts&id=309203
END:VEVENT
END:VCALENDAR
