BEGIN:VCALENDAR
VERSION:2.0
PRODID:-//Sabre//Sabre VObject 3.5.3//EN
CALSCALE:GREGORIAN
BEGIN:VTIMEZONE
TZID:Europe/London
BEGIN:STANDARD
TZNAME:GMT
DTSTART:19701025T020000
RRULE:FREQ=YEARLY;BYMONTH=10;BYDAY=-1SU
TZOFFSETFROM:+0100
TZOFFSETTO:+0000
END:STANDARD
BEGIN:DAYLIGHT
TZNAME:BST
DTSTART:19700329T010000
RRULE:FREQ=YEARLY;BYMONTH=3;BYDAY=-1SU
TZOFFSETFROM:+0000
TZOFFSETTO:+0100
END:DAYLIGHT
END:VTIMEZONE
BEGIN:VEVENT
UID:event_309009@congletonchoralsociety.org.uk
DTSTART;TZID=Europe/London:20261114T193000
DTEND;TZID=Europe/London:20261114T213000
SUMMARY:Choral Society: Autumn Concert
DESCRIPTION:The main work in the concert will be Jonathan Dove&#39\;s The P
 assing Year\, &quot\;beautifully conceived music\, soaring to a glorious\,
  bright climax&quot\;. Details of other works for choir and piano will be 
 available nearer the time.\n\nFor full event details\, visit: https://www.
 congletonchoralsociety.org.uk/dbpage.php?pg=view&dbase=events&id=309009
LOCATION:Town  Hall\, High Street\, Congleton\, CW12 1BN
URL:https://www.congletonchoralsociety.org.uk/dbpage.php?pg=view&dbase=even
 ts&id=309009
END:VEVENT
END:VCALENDAR
