BEGIN:VCALENDAR
VERSION:2.0
PRODID:-//Sabre//Sabre VObject 3.5.3//EN
CALSCALE:GREGORIAN
BEGIN:VTIMEZONE
TZID:Europe/London
BEGIN:STANDARD
TZNAME:GMT
DTSTART:19701025T020000
RRULE:FREQ=YEARLY;BYMONTH=10;BYDAY=-1SU
TZOFFSETFROM:+0100
TZOFFSETTO:+0000
END:STANDARD
BEGIN:DAYLIGHT
TZNAME:BST
DTSTART:19700329T010000
RRULE:FREQ=YEARLY;BYMONTH=3;BYDAY=-1SU
TZOFFSETFROM:+0000
TZOFFSETTO:+0100
END:DAYLIGHT
END:VTIMEZONE
BEGIN:VEVENT
UID:event_203975@congletonchoralsociety.org.uk
DTSTART;TZID=Europe/London:20251025T100000
DTEND;TZID=Europe/London:20251025T170000
SUMMARY:Come and sing Requiem by Matthew Coleridge
DESCRIPTION:A day exploring Requiem by Matthew Coleridge with our Music Dir
 ector Tom Newall and Accompanist Rachel Fright.\n\nThis work has become on
 e of the UK&rsquo\;s most popular new choral works\, and was one of the hi
 ghest new entries in the Classic FM Hall of Fame 2023. Described by the la
 te Sir Neville Marriner as &ldquo\;a valuable addition to 21st century cho
 ral repertoire&rdquo\;\, this deeply moving work and its beautiful\, flowi
 ng melodies have made it a firm favourite with singers and audiences alike
 .\n\n	Reaches into the soul and lifts it skyward BBC Music Magazine\n\n\nI
 nformation for participants\nMusic will be provided as part of the cost fo
 r the day.\nFood. Free tea/coffee will be available during the breaks and 
 home-made cakes will be on sale. Please bring your own lunch.\nParking. Th
 ere is plenty of free parking on-site and on the surrounding streets.\nBlu
 e Badge holders. There are two marked spaces by the entrance to the church
 .\nTimetable\n\n\n	\n		\n			9:00 - 10:00\n			Registration\n		\n		\n			10:0
 0 - 11:15\n			Session 1\n		\n		\n			11:15 - 11:45\n			Tea/coffee break\n		
 \n		\n			11:45 - 13:00\n			Session 2\n		\n		\n			13.00 - 14:00\n			Lunch b
 reak\n		\n		\n			14:00 - 15:30\n			Session 3\n		\n		\n			15:30 - 16:00\n		
 	Tea/coffee break\n		\n		\n			16:00 - 17:00\n			Sing through\n		\n	\n\n\n\
 nFor full event details\, visit: https://www.congletonchoralsociety.org.uk
 /dbpage.php?pg=view&dbase=events&id=203975
LOCATION:Wellspring Methodist Church\, Canal Road\, Congleton\, CW12 3AP\, 
 (Car park and entrance off Goldfinch Close)
URL:https://www.congletonchoralsociety.org.uk/dbpage.php?pg=view&dbase=even
 ts&id=203975
END:VEVENT
END:VCALENDAR
