BEGIN:VCALENDAR
VERSION:2.0
PRODID:-//Sabre//Sabre VObject 3.5.3//EN
CALSCALE:GREGORIAN
BEGIN:VTIMEZONE
TZID:Europe/London
BEGIN:STANDARD
TZNAME:GMT
DTSTART:19701025T020000
RRULE:FREQ=YEARLY;BYMONTH=10;BYDAY=-1SU
TZOFFSETFROM:+0100
TZOFFSETTO:+0000
END:STANDARD
BEGIN:DAYLIGHT
TZNAME:BST
DTSTART:19700329T010000
RRULE:FREQ=YEARLY;BYMONTH=3;BYDAY=-1SU
TZOFFSETFROM:+0000
TZOFFSETTO:+0100
END:DAYLIGHT
END:VTIMEZONE
BEGIN:VEVENT
UID:event_194187@congletonchoralsociety.org.uk
DTSTART;TZID=Europe/London:20251220T193000
DTEND;TZID=Europe/London:20251220T213000
SUMMARY:Choral Society Christmas Concert with Brass Quintet
DESCRIPTION:\nA concert of Christmas carols and songs with Wilmslow Symphon
 y Orchestra brass quintet.\nThere will be popular Christmas carols and son
 gs such as Away in a manger\, Silent Night and White Christmas as well as 
 some new joyful carols you may not have heard before by Toby Young and Cec
 ilia McDowall. We will also invite you to sing along with some of the caro
 ls and songs you know well. This will be a truly festive occasion for all.
 \nBuy your tickets soon before we sell out.\n\nFor full event details\, vi
 sit: https://www.congletonchoralsociety.org.uk/christmas
LOCATION:Town  Hall\, High Street\, Congleton\, CW12 1BN
URL:https://www.congletonchoralsociety.org.uk/christmas
END:VEVENT
END:VCALENDAR
